BEGIN:VCALENDAR
VERSION:2.0
PRODID:-//Association de jeux EDIL - ECPv6.3.1//NONSGML v1.0//EN
CALSCALE:GREGORIAN
METHOD:PUBLISH
X-WR-CALNAME:Association de jeux EDIL
X-ORIGINAL-URL:https://edil33.fr
X-WR-CALDESC:évènements pour Association de jeux EDIL
REFRESH-INTERVAL;VALUE=DURATION:PT1H
X-Robots-Tag:noindex
X-PUBLISHED-TTL:PT1H
BEGIN:VTIMEZONE
TZID:Europe/Paris
BEGIN:DAYLIGHT
TZOFFSETFROM:+0100
TZOFFSETTO:+0200
TZNAME:CEST
DTSTART:20260329T010000
END:DAYLIGHT
BEGIN:STANDARD
TZOFFSETFROM:+0200
TZOFFSETTO:+0100
TZNAME:CET
DTSTART:20261025T010000
END:STANDARD
END:VTIMEZONE
BEGIN:VEVENT
DTSTART;TZID=Europe/Paris:20260503T093000
DTEND;TZID=Europe/Paris:20260503T183000
DTSTAMP:20260424T062838
CREATED:20260421T113859Z
LAST-MODIFIED:20260421T113859Z
UID:7328-1777800600-1777833000@edil33.fr
SUMMARY:Journée PVE Kill Team
DESCRIPTION:
URL:https://edil33.fr/event/journee-pve-kill-team-2/
LOCATION:EDIL\, 5 place sainte eulalie\, Bordeaux\, 33000\, France
CATEGORIES:Evénement Externe (Non-EDIL),Evenement Interne (de l'EDIL),jeux de figurines,PERMANENCE
END:VEVENT
BEGIN:VEVENT
DTSTART;TZID=Europe/Paris:20260513T184500
DTEND;TZID=Europe/Paris:20260513T210000
DTSTAMP:20260424T062838
CREATED:20260417T174859Z
LAST-MODIFIED:20260417T174859Z
UID:7313-1778697900-1778706000@edil33.fr
SUMMARY:Avant Première Pokémon
DESCRIPTION:Salle avant occupée
URL:https://edil33.fr/event/avant-premiere-pokemon-6/
LOCATION:EDIL\, 5 place sainte eulalie\, Bordeaux\, 33000\, France
CATEGORIES:PERMANENCE,Pokémon JCC
END:VEVENT
BEGIN:VEVENT
DTSTART;TZID=Europe/Paris:20260516T140000
DTEND;TZID=Europe/Paris:20260516T180000
DTSTAMP:20260424T062838
CREATED:20260417T174941Z
LAST-MODIFIED:20260417T174941Z
UID:7315-1778940000-1778954400@edil33.fr
SUMMARY:Avant Première Pokémon
DESCRIPTION:Toute l’asso est occupée
URL:https://edil33.fr/event/avant-premiere-pokemon-7/
CATEGORIES:PERMANENCE,Pokémon JCC
END:VEVENT
BEGIN:VEVENT
DTSTART;TZID=Europe/Paris:20260517T140000
DTEND;TZID=Europe/Paris:20260517T180000
DTSTAMP:20260424T062838
CREATED:20260417T175115Z
LAST-MODIFIED:20260417T175115Z
UID:7317-1779026400-1779040800@edil33.fr
SUMMARY:Avant Première Pokémon
DESCRIPTION:Toute l’association est occupée
URL:https://edil33.fr/event/avant-premiere-pokemon-8/
LOCATION:EDIL\, 5 place sainte eulalie\, Bordeaux\, 33000\, France
CATEGORIES:PERMANENCE,Pokémon JCC
END:VEVENT
BEGIN:VEVENT
DTSTART;TZID=Europe/Paris:20260524T093000
DTEND;TZID=Europe/Paris:20260524T190000
DTSTAMP:20260424T062838
CREATED:20260420T191117Z
LAST-MODIFIED:20260420T191117Z
UID:7322-1779615000-1779649200@edil33.fr
SUMMARY:Tournoi Pokémon
DESCRIPTION:Toute l’association est occupée
URL:https://edil33.fr/event/tournoi-pokemon-21/
LOCATION:EDIL\, 5 place sainte eulalie\, Bordeaux\, 33000\, France
CATEGORIES:PERMANENCE,Pokémon JCC
END:VEVENT
END:VCALENDAR