BEGIN:VCALENDAR
VERSION:2.0
PRODID:-//Association de jeux EDIL - ECPv6.3.1//NONSGML v1.0//EN
CALSCALE:GREGORIAN
METHOD:PUBLISH
X-WR-CALNAME:Association de jeux EDIL
X-ORIGINAL-URL:https://edil33.fr
X-WR-CALDESC:évènements pour Association de jeux EDIL
REFRESH-INTERVAL;VALUE=DURATION:PT1H
X-Robots-Tag:noindex
X-PUBLISHED-TTL:PT1H
BEGIN:VTIMEZONE
TZID:Europe/Paris
BEGIN:DAYLIGHT
TZOFFSETFROM:+0100
TZOFFSETTO:+0200
TZNAME:CEST
DTSTART:20260329T010000
END:DAYLIGHT
BEGIN:STANDARD
TZOFFSETFROM:+0200
TZOFFSETTO:+0100
TZNAME:CET
DTSTART:20261025T010000
END:STANDARD
END:VTIMEZONE
BEGIN:VEVENT
DTSTART;TZID=Europe/Paris:20260328T140000
DTEND;TZID=Europe/Paris:20260328T180000
DTSTAMP:20260424T140212
CREATED:20260327T164359Z
LAST-MODIFIED:20260327T164359Z
UID:7279-1774706400-1774720800@edil33.fr
SUMMARY:Permanence/Traquenard
DESCRIPTION:On va jouer avec des amis en salle avant\nHoraire de fin indicatif\, on risque de finir plus tard
URL:https://edil33.fr/event/permanence-traquenard/
LOCATION:EDIL\, 5 place sainte eulalie\, Bordeaux\, 33000\, France
CATEGORIES:jeux de plateau,PERMANENCE
END:VEVENT
BEGIN:VEVENT
DTSTART;TZID=Europe/Paris:20260328T140000
DTEND;TZID=Europe/Paris:20260328T233000
DTSTAMP:20260424T140212
CREATED:20260225T141457Z
LAST-MODIFIED:20260225T141457Z
UID:7220-1774706400-1774740600@edil33.fr
SUMMARY:Qualification coupe de france Root 2026
DESCRIPTION:L’EDIL à le plaisir d’accueil à nouveau la session de qualification Bordelaise à la coupe de France de Root. \nVous pouvez vous inscrire gratuitement via la billetterie hello asso\, et venir discuter du jeu sur notre serveur discord. \nEt pour les curieux\, n’hésitez pas à venir découvrir le jeu et profiter de l’ambiance. \nLa cotisation habituel de 2€ s’applique pour l’adhésion à la journée à l’EDIL. \nL’évènement occupera la quasi totalité de la salle avant.
URL:https://edil33.fr/event/qualification-coupe-de-france-root-2026/
LOCATION:EDIL\, 5 place sainte eulalie\, Bordeaux\, 33000\, France
CATEGORIES:Evenement Interne (de l'EDIL),PERMANENCE,Tournoi
END:VEVENT
END:VCALENDAR