BEGIN:VCALENDAR
VERSION:2.0
PRODID:-//Association de jeux EDIL - ECPv6.3.1//NONSGML v1.0//EN
CALSCALE:GREGORIAN
METHOD:PUBLISH
X-ORIGINAL-URL:https://edil33.fr
X-WR-CALDESC:évènements pour Association de jeux EDIL
REFRESH-INTERVAL;VALUE=DURATION:PT1H
X-Robots-Tag:noindex
X-PUBLISHED-TTL:PT1H
BEGIN:VTIMEZONE
TZID:Europe/Paris
BEGIN:DAYLIGHT
TZOFFSETFROM:+0100
TZOFFSETTO:+0200
TZNAME:CEST
DTSTART:20250330T010000
END:DAYLIGHT
BEGIN:STANDARD
TZOFFSETFROM:+0200
TZOFFSETTO:+0100
TZNAME:CET
DTSTART:20251026T010000
END:STANDARD
END:VTIMEZONE
BEGIN:VEVENT
DTSTART;TZID=Europe/Paris:20250419T090000
DTEND;TZID=Europe/Paris:20250419T220000
DTSTAMP:20260425T034112
CREATED:20250418T113424Z
LAST-MODIFIED:20250418T113424Z
UID:6589-1745053200-1745100000@edil33.fr
SUMMARY:[Samedi 19 avril 9h00-22h00] Tournoi Kill Team + soirée jeux
DESCRIPTION:
URL:https://edil33.fr/event/samedi-19-avril-9h00-22h00-tournoi-kill-team-soiree-jeux/
LOCATION:EDIL\, 5 place sainte eulalie\, Bordeaux\, 33000\, France
CATEGORIES:jeux de figurines,PERMANENCE,Tournoi
END:VEVENT
BEGIN:VEVENT
DTSTART;TZID=Europe/Paris:20250420T090000
DTEND;TZID=Europe/Paris:20250420T180000
DTSTAMP:20260425T034112
CREATED:20250418T113543Z
LAST-MODIFIED:20250418T113543Z
UID:6591-1745139600-1745172000@edil33.fr
SUMMARY:[Dimanche 20 avril] 9h00 - 18h00 Journée Kill Team + tables ouvertes
DESCRIPTION:
URL:https://edil33.fr/event/dimanche-20-avril-9h00-18h00-journee-kill-team-tables-ouvertes/
LOCATION:EDIL\, 5 place sainte eulalie\, Bordeaux\, 33000\, France
CATEGORIES:Evenement Interne (de l'EDIL),jeux de figurines,PERMANENCE
END:VEVENT
END:VCALENDAR