BEGIN:VCALENDAR
VERSION:2.0
PRODID:-//Association de jeux EDIL - ECPv6.3.1//NONSGML v1.0//EN
CALSCALE:GREGORIAN
METHOD:PUBLISH
X-ORIGINAL-URL:https://edil33.fr
X-WR-CALDESC:évènements pour Association de jeux EDIL
REFRESH-INTERVAL;VALUE=DURATION:PT1H
X-Robots-Tag:noindex
X-PUBLISHED-TTL:PT1H
BEGIN:VTIMEZONE
TZID:Europe/Paris
BEGIN:DAYLIGHT
TZOFFSETFROM:+0100
TZOFFSETTO:+0200
TZNAME:CEST
DTSTART:20250330T010000
END:DAYLIGHT
BEGIN:STANDARD
TZOFFSETFROM:+0200
TZOFFSETTO:+0100
TZNAME:CET
DTSTART:20251026T010000
END:STANDARD
END:VTIMEZONE
BEGIN:VEVENT
DTSTART;TZID=Europe/Paris:20250920T100000
DTEND;TZID=Europe/Paris:20250921T233000
DTSTAMP:20260424T192244
CREATED:20250901T090335Z
LAST-MODIFIED:20250901T090335Z
UID:6912-1758362400-1758497400@edil33.fr
SUMMARY:Festival Hypermondes 2025 "Voyage"
DESCRIPTION:Festival Hypermondes\, le festival de l’imaginaire en Nouvelle-Aquitaine \nLa 5ᵉ édition de ce festival consacré aux mondes de l’imaginaire explore le thème des voyages\, qu’ils soient proches ou lointains\, avec ou sans retour\, spatiaux ou temporels\, à la rencontre de soi ou des autres… \nEn compagnie du parrain\, Antoine Bauza et de la marraine\, Anne Besson\, deux grands noms de l’imaginaire\, l’un pour les jeux\, l’autre pour la recherche universitaire\, ce sont plus de 60 auteurs (littérature et BD)\, universitaires\, artistes et créateurs qui échangeront autour de conférences et de rencontres. \nDu 10 septembre au 12 octobre\, la médiathèque accueillera l’exposition Cités et cartes de l’imaginaire. \nInformations pratiques\n\nFestival de science-fiction co-organisé par l’association Hypermondes et la Ville de Mérignac\nEntrée libre et gratuite\nTout public\nTout le programme du Festival sur hypermondes.fr\n——————- \nOn sera présent avec l’EDIL sur le samedi 20 SEPTEMBRE pour animer du jeux de plateau toute la journée et toute la nuit! Alors retrouvez nous pour une journée dédiés aux jeux sur le thème du « Voyage »! ^^
URL:https://edil33.fr/event/festival-hypermondes-2025-voyage/
LOCATION:Mediathèque Mérignac\, 19 Pl. Charles de Gaulle Cedex\, Mérignac\, 33700
CATEGORIES:Evénement Externe (Non-EDIL),jeux de plateau,Jeux de rôles
ATTACH;FMTTYPE=image/webp:https://edil33.fr/wp-content/uploads/2025/09/affiche2025-1-980x1386-1.webp
END:VEVENT
END:VCALENDAR