BEGIN:VCALENDAR
VERSION:2.0
PRODID:-//Association de jeux EDIL - ECPv6.3.1//NONSGML v1.0//EN
CALSCALE:GREGORIAN
METHOD:PUBLISH
X-ORIGINAL-URL:https://edil33.fr
X-WR-CALDESC:évènements pour Association de jeux EDIL
REFRESH-INTERVAL;VALUE=DURATION:PT1H
X-Robots-Tag:noindex
X-PUBLISHED-TTL:PT1H
BEGIN:VTIMEZONE
TZID:Europe/Paris
BEGIN:DAYLIGHT
TZOFFSETFROM:+0100
TZOFFSETTO:+0200
TZNAME:CEST
DTSTART:20250330T010000
END:DAYLIGHT
BEGIN:STANDARD
TZOFFSETFROM:+0200
TZOFFSETTO:+0100
TZNAME:CET
DTSTART:20251026T010000
END:STANDARD
END:VTIMEZONE
BEGIN:VEVENT
DTSTART;TZID=Europe/Paris:20251120T080000
DTEND;TZID=Europe/Paris:20251120T170000
DTSTAMP:20260424T162009
CREATED:20251120T170235Z
LAST-MODIFIED:20251120T170235Z
UID:7046-1763625600-1763658000@edil33.fr
SUMMARY:Soirée JDR ouvert à toutes et à tous.
DESCRIPTION:La soirée se déroulera comme d’habitude de 19h à 23h : \n\n\nCette soirée est ouverte à toutes et à tous: membres ou non-membres de l’EDIL\, joueur.se.s ou MJs\, débutant.e.s ou vétérans du JDR… \nTable 1 : Into the Odd: 2 places dispos\n \nTable 2 : L’anneau unique: 1 place dispo \nComment participer aux prochaines soirées\, en tant que PJ ou MJ ? \n—>  Contactez nous sur le discord de l’EDIL:\nhttps://discord.com/channels/173838737568956419/1440266664963997776
URL:https://edil33.fr/event/soiree-jdr-ouvert-a-toutes-et-a-tous-12/
CATEGORIES:Evenement Interne (de l'EDIL),Jeux de rôles,PERMANENCE
END:VEVENT
END:VCALENDAR