BEGIN:VCALENDAR
VERSION:2.0
PRODID:-//Association de jeux EDIL - ECPv6.3.1//NONSGML v1.0//EN
CALSCALE:GREGORIAN
METHOD:PUBLISH
X-WR-CALNAME:Association de jeux EDIL
X-ORIGINAL-URL:https://edil33.fr
X-WR-CALDESC:évènements pour Association de jeux EDIL
REFRESH-INTERVAL;VALUE=DURATION:PT1H
X-Robots-Tag:noindex
X-PUBLISHED-TTL:PT1H
BEGIN:VTIMEZONE
TZID:Europe/Paris
BEGIN:DAYLIGHT
TZOFFSETFROM:+0100
TZOFFSETTO:+0200
TZNAME:CEST
DTSTART:20250330T010000
END:DAYLIGHT
BEGIN:STANDARD
TZOFFSETFROM:+0200
TZOFFSETTO:+0100
TZNAME:CET
DTSTART:20251026T010000
END:STANDARD
END:VTIMEZONE
BEGIN:VEVENT
DTSTART;TZID=Europe/Paris:20250830T140000
DTEND;TZID=Europe/Paris:20250831T200000
DTSTAMP:20260424T223322
CREATED:20250823T222012Z
LAST-MODIFIED:20250823T222058Z
UID:6880-1756562400-1756670400@edil33.fr
SUMMARY:Je Joue à Bord'o 2025
DESCRIPTION:Jeux de société en plein air en famille ou entre amis. \nRestauration et Boisson. \nVous pourrez retrouver l’EDIL sur son stand qui proposera du jeux de plateau et d’autres joyeuseté sur ces deux jours de petit festoche.
URL:https://edil33.fr/event/je-joue-a-bordo-2025/
LOCATION:Rue St Sernin 33000 BORDEAUX\, Rue St Sernin\, Bordeaux\, 33000\, France
CATEGORIES:Evénement Externe (Non-EDIL),jeux de plateau,Jeux de rôles
ATTACH;FMTTYPE=image/png:https://edil33.fr/wp-content/uploads/2025/08/unnamed.png
END:VEVENT
END:VCALENDAR