BEGIN:VCALENDAR
VERSION:2.0
PRODID:-//Association de jeux EDIL - ECPv6.3.1//NONSGML v1.0//EN
CALSCALE:GREGORIAN
METHOD:PUBLISH
X-ORIGINAL-URL:https://edil33.fr
X-WR-CALDESC:évènements pour Association de jeux EDIL
REFRESH-INTERVAL;VALUE=DURATION:PT1H
X-Robots-Tag:noindex
X-PUBLISHED-TTL:PT1H
BEGIN:VTIMEZONE
TZID:Europe/Paris
BEGIN:DAYLIGHT
TZOFFSETFROM:+0100
TZOFFSETTO:+0200
TZNAME:CEST
DTSTART:20250330T010000
END:DAYLIGHT
BEGIN:STANDARD
TZOFFSETFROM:+0200
TZOFFSETTO:+0100
TZNAME:CET
DTSTART:20251026T010000
END:STANDARD
END:VTIMEZONE
BEGIN:VEVENT
DTSTART;TZID=Europe/Paris:20250507T183000
DTEND;TZID=Europe/Paris:20250507T213000
DTSTAMP:20260425T040037
CREATED:20241203T205001Z
LAST-MODIFIED:20241203T205001Z
UID:6238-1746642600-1746653400@edil33.fr
SUMMARY:Séance de Ligue Pokémon
DESCRIPTION:Séance hebdomadaire de ligue Pokémon.
URL:https://edil33.fr/event/seance-de-ligue-pokemon-23/
LOCATION:EDIL\, 5 place sainte eulalie\, Bordeaux\, 33000\, France
CATEGORIES:PERMANENCE,Pokémon JCC
END:VEVENT
BEGIN:VEVENT
DTSTART;TZID=Europe/Paris:20250514T183000
DTEND;TZID=Europe/Paris:20250514T213000
DTSTAMP:20260425T040037
CREATED:20241203T205105Z
LAST-MODIFIED:20250417T150931Z
UID:6240-1747247400-1747258200@edil33.fr
SUMMARY:Tournoi Pokémon League Challenge
DESCRIPTION:Tournoi League Challenge
URL:https://edil33.fr/event/seance-de-ligue-pokemon-24/
LOCATION:EDIL\, 5 place sainte eulalie\, Bordeaux\, 33000\, France
CATEGORIES:PERMANENCE,Pokémon JCC
END:VEVENT
BEGIN:VEVENT
DTSTART;TZID=Europe/Paris:20250518T140000
DTEND;TZID=Europe/Paris:20250518T200000
DTSTAMP:20260425T040037
CREATED:20250516T103447Z
LAST-MODIFIED:20250516T103447Z
UID:6630-1747576800-1747598400@edil33.fr
SUMMARY:Tournoi Avant-Premiere Rivalités Destinées
DESCRIPTION:Tournoi qui occupe toute l’asso de 14 à 17h \nIl devrait y avoir un peu de place qui se libère à 17h
URL:https://edil33.fr/event/tournoi-avant-premiere-rivalites-destinees/
LOCATION:EDIL\, 5 place sainte eulalie\, Bordeaux\, 33000\, France
CATEGORIES:PERMANENCE,Pokémon JCC
END:VEVENT
BEGIN:VEVENT
DTSTART;TZID=Europe/Paris:20250521T183000
DTEND;TZID=Europe/Paris:20250521T213000
DTSTAMP:20260425T040037
CREATED:20241203T205207Z
LAST-MODIFIED:20241203T205207Z
UID:6242-1747852200-1747863000@edil33.fr
SUMMARY:Séance de Ligue Pokémon
DESCRIPTION:Séance hebdomadaire de ligue Pokémon.
URL:https://edil33.fr/event/seance-de-ligue-pokemon-25/
LOCATION:EDIL\, 5 place sainte eulalie\, Bordeaux\, 33000\, France
CATEGORIES:PERMANENCE,Pokémon JCC
END:VEVENT
END:VCALENDAR