BEGIN:VCALENDAR
VERSION:2.0
PRODID:-//Association de jeux EDIL - ECPv6.3.1//NONSGML v1.0//EN
CALSCALE:GREGORIAN
METHOD:PUBLISH
X-ORIGINAL-URL:https://edil33.fr
X-WR-CALDESC:évènements pour Association de jeux EDIL
REFRESH-INTERVAL;VALUE=DURATION:PT1H
X-Robots-Tag:noindex
X-PUBLISHED-TTL:PT1H
BEGIN:VTIMEZONE
TZID:Europe/Paris
BEGIN:DAYLIGHT
TZOFFSETFROM:+0100
TZOFFSETTO:+0200
TZNAME:CEST
DTSTART:20250330T010000
END:DAYLIGHT
BEGIN:STANDARD
TZOFFSETFROM:+0200
TZOFFSETTO:+0100
TZNAME:CET
DTSTART:20251026T010000
END:STANDARD
END:VTIMEZONE
BEGIN:VEVENT
DTSTART;TZID=Europe/Paris:20251012T140000
DTEND;TZID=Europe/Paris:20251012T183000
DTSTAMP:20260425T015318
CREATED:20251009T193944Z
LAST-MODIFIED:20251009T193944Z
UID:6998-1760277600-1760293800@edil33.fr
SUMMARY:[Dimanche 12 Octobre] 14h - 18h30
DESCRIPTION:Kill Team et/ou peinture/modélisme
URL:https://edil33.fr/event/dimanche-12-octobre-14h-18h30/
LOCATION:EDIL\, 5 place sainte eulalie\, Bordeaux\, 33000\, France
END:VEVENT
END:VCALENDAR