BEGIN:VCALENDAR
VERSION:2.0
PRODID:-//Association de jeux EDIL - ECPv6.3.1//NONSGML v1.0//EN
CALSCALE:GREGORIAN
METHOD:PUBLISH
X-WR-CALNAME:Association de jeux EDIL
X-ORIGINAL-URL:https://edil33.fr
X-WR-CALDESC:évènements pour Association de jeux EDIL
REFRESH-INTERVAL;VALUE=DURATION:PT1H
X-Robots-Tag:noindex
X-PUBLISHED-TTL:PT1H
BEGIN:VTIMEZONE
TZID:Europe/Paris
BEGIN:DAYLIGHT
TZOFFSETFROM:+0100
TZOFFSETTO:+0200
TZNAME:CEST
DTSTART:20250330T010000
END:DAYLIGHT
BEGIN:STANDARD
TZOFFSETFROM:+0200
TZOFFSETTO:+0100
TZNAME:CET
DTSTART:20251026T010000
END:STANDARD
END:VTIMEZONE
BEGIN:VEVENT
DTSTART;TZID=Europe/Paris:20250615T133000
DTEND;TZID=Europe/Paris:20250615T220000
DTSTAMP:20260425T131535
CREATED:20250525T202218Z
LAST-MODIFIED:20250606T213118Z
UID:6670-1749994200-1750024800@edil33.fr
SUMMARY:Séance de JdR
DESCRIPTION:Séance de JdR en salle arrière\, tables libres en salle avant. \nAutre séance de jdr de 18h à 22h dans la salle du fond preferentiellement.
URL:https://edil33.fr/event/seance-de-jdr/
LOCATION:EDIL\, 5 place sainte eulalie\, Bordeaux\, 33000\, France
CATEGORIES:jeux de plateau,Jeux de rôles,PERMANENCE
END:VEVENT
END:VCALENDAR