BEGIN:VCALENDAR
VERSION:2.0
PRODID:-//Association de jeux EDIL - ECPv6.3.1//NONSGML v1.0//EN
CALSCALE:GREGORIAN
METHOD:PUBLISH
X-WR-CALNAME:Association de jeux EDIL
X-ORIGINAL-URL:https://edil33.fr
X-WR-CALDESC:évènements pour Association de jeux EDIL
REFRESH-INTERVAL;VALUE=DURATION:PT1H
X-Robots-Tag:noindex
X-PUBLISHED-TTL:PT1H
BEGIN:VTIMEZONE
TZID:Europe/Paris
BEGIN:DAYLIGHT
TZOFFSETFROM:+0100
TZOFFSETTO:+0200
TZNAME:CEST
DTSTART:20250330T010000
END:DAYLIGHT
BEGIN:STANDARD
TZOFFSETFROM:+0200
TZOFFSETTO:+0100
TZNAME:CET
DTSTART:20251026T010000
END:STANDARD
END:VTIMEZONE
BEGIN:VEVENT
DTSTART;TZID=Europe/Paris:20250905T160000
DTEND;TZID=Europe/Paris:20250905T230000
DTSTAMP:20260424T160034
CREATED:20250828T071243Z
LAST-MODIFIED:20250902T184028Z
UID:6890-1757088000-1757113200@edil33.fr
SUMMARY:Tables libres
DESCRIPTION:Salut! \nOn se fait une soirée jeux de société avec des amis. On devrait occuper la moitié de la salle avant\, la salle arrière est libre. \nÀ+
URL:https://edil33.fr/event/tables-libres-6/
LOCATION:EDIL\, 5 place sainte eulalie\, Bordeaux\, 33000\, France
CATEGORIES:jeux de plateau,PERMANENCE
END:VEVENT
END:VCALENDAR