BEGIN:VCALENDAR
VERSION:2.0
PRODID:-//Association de jeux EDIL - ECPv6.3.1//NONSGML v1.0//EN
CALSCALE:GREGORIAN
METHOD:PUBLISH
X-WR-CALNAME:Association de jeux EDIL
X-ORIGINAL-URL:https://edil33.fr
X-WR-CALDESC:évènements pour Association de jeux EDIL
REFRESH-INTERVAL;VALUE=DURATION:PT1H
X-Robots-Tag:noindex
X-PUBLISHED-TTL:PT1H
BEGIN:VTIMEZONE
TZID:Europe/Paris
BEGIN:DAYLIGHT
TZOFFSETFROM:+0100
TZOFFSETTO:+0200
TZNAME:CEST
DTSTART:20250330T010000
END:DAYLIGHT
BEGIN:STANDARD
TZOFFSETFROM:+0200
TZOFFSETTO:+0100
TZNAME:CET
DTSTART:20251026T010000
END:STANDARD
END:VTIMEZONE
BEGIN:VEVENT
DTSTART;TZID=Europe/Paris:20251105T183000
DTEND;TZID=Europe/Paris:20251105T213000
DTSTAMP:20260424T182242
CREATED:20250703T202724Z
LAST-MODIFIED:20250703T202724Z
UID:6800-1762367400-1762378200@edil33.fr
SUMMARY:Séance de Ligue Pokémon
DESCRIPTION:Séance hebdomadaire de ligue Pokémon.
URL:https://edil33.fr/event/seance-de-ligue-pokemon-35/
LOCATION:EDIL\, 5 place sainte eulalie\, Bordeaux\, 33000\, France
CATEGORIES:PERMANENCE,Pokémon JCC
END:VEVENT
BEGIN:VEVENT
DTSTART;TZID=Europe/Paris:20251112T183000
DTEND;TZID=Europe/Paris:20251112T213000
DTSTAMP:20260424T182242
CREATED:20251019T121650Z
LAST-MODIFIED:20251019T121650Z
UID:7002-1762972200-1762983000@edil33.fr
SUMMARY:Séance de ligue Pokémon
DESCRIPTION:Séance hebdomadaire de ligue Pokémon.
URL:https://edil33.fr/event/seance-de-ligue-pokemon-42/
LOCATION:EDIL\, 5 place sainte eulalie\, Bordeaux\, 33000\, France
CATEGORIES:PERMANENCE,Pokémon JCC
END:VEVENT
BEGIN:VEVENT
DTSTART;TZID=Europe/Paris:20251116T083000
DTEND;TZID=Europe/Paris:20251116T180000
DTSTAMP:20260424T182242
CREATED:20251112T175936Z
LAST-MODIFIED:20251112T175952Z
UID:7041-1763281800-1763316000@edil33.fr
SUMMARY:Tournoi Pokémon
DESCRIPTION:Tournoi toute la journée\, toute l’asso occupée
URL:https://edil33.fr/event/tournoi-pokemon-14/
LOCATION:EDIL\, 5 place sainte eulalie\, Bordeaux\, 33000\, France
CATEGORIES:PERMANENCE,Pokémon JCC
END:VEVENT
BEGIN:VEVENT
DTSTART;TZID=Europe/Paris:20251119T183000
DTEND;TZID=Europe/Paris:20251119T213000
DTSTAMP:20260424T182242
CREATED:20250703T202906Z
LAST-MODIFIED:20250703T202906Z
UID:6802-1763577000-1763587800@edil33.fr
SUMMARY:Séance de Ligue Pokémon
DESCRIPTION:Séance hebdomadaire de ligue Pokémon.
URL:https://edil33.fr/event/seance-de-ligue-pokemon-36/
LOCATION:EDIL\, 5 place sainte eulalie\, Bordeaux\, 33000\, France
CATEGORIES:PERMANENCE,Pokémon JCC
END:VEVENT
BEGIN:VEVENT
DTSTART;TZID=Europe/Paris:20251126T183000
DTEND;TZID=Europe/Paris:20251126T213000
DTSTAMP:20260424T182242
CREATED:20250703T203212Z
LAST-MODIFIED:20251030T180915Z
UID:6804-1764181800-1764192600@edil33.fr
SUMMARY:Tournoi Pokémon
DESCRIPTION:Tournoi mensuel Pokémon\, salle avant prise entièrement\, jeux de société en salle arrière (voir avec la team du mercredi sur Discord)
URL:https://edil33.fr/event/seance-de-ligue-pokemon-37/
LOCATION:EDIL\, 5 place sainte eulalie\, Bordeaux\, 33000\, France
CATEGORIES:PERMANENCE,Pokémon JCC
END:VEVENT
END:VCALENDAR