BEGIN:VCALENDAR
VERSION:2.0
PRODID:-//Association de jeux EDIL - ECPv6.3.1//NONSGML v1.0//EN
CALSCALE:GREGORIAN
METHOD:PUBLISH
X-WR-CALNAME:Association de jeux EDIL
X-ORIGINAL-URL:https://edil33.fr
X-WR-CALDESC:évènements pour Association de jeux EDIL
REFRESH-INTERVAL;VALUE=DURATION:PT1H
X-Robots-Tag:noindex
X-PUBLISHED-TTL:PT1H
BEGIN:VTIMEZONE
TZID:Europe/Paris
BEGIN:DAYLIGHT
TZOFFSETFROM:+0100
TZOFFSETTO:+0200
TZNAME:CEST
DTSTART:20250330T010000
END:DAYLIGHT
BEGIN:STANDARD
TZOFFSETFROM:+0200
TZOFFSETTO:+0100
TZNAME:CET
DTSTART:20251026T010000
END:STANDARD
END:VTIMEZONE
BEGIN:VEVENT
DTSTART;TZID=Europe/Paris:20251207T140000
DTEND;TZID=Europe/Paris:20251207T183000
DTSTAMP:20260424T165312
CREATED:20251207T095646Z
LAST-MODIFIED:20251207T095646Z
UID:7076-1765116000-1765132200@edil33.fr
SUMMARY:Permanence Panda
DESCRIPTION:
URL:https://edil33.fr/event/permanence-panda-18/
LOCATION:EDIL\, 5 place sainte eulalie\, Bordeaux\, 33000\, France
CATEGORIES:jeux de figurines,PERMANENCE
END:VEVENT
BEGIN:VEVENT
DTSTART;TZID=Europe/Paris:20251210T183000
DTEND;TZID=Europe/Paris:20251210T213000
DTSTAMP:20260424T165312
CREATED:20250703T203649Z
LAST-MODIFIED:20250703T203649Z
UID:6808-1765391400-1765402200@edil33.fr
SUMMARY:Séance de Ligue Pokémon
DESCRIPTION:Séance hebdomadaire de ligue Pokémon.
URL:https://edil33.fr/event/seance-de-ligue-pokemon-39/
LOCATION:EDIL\, 5 place sainte eulalie\, Bordeaux\, 33000\, France
CATEGORIES:PERMANENCE,Pokémon JCC
END:VEVENT
BEGIN:VEVENT
DTSTART;TZID=Europe/Paris:20251213T140000
DTEND;TZID=Europe/Paris:20251213T180000
DTSTAMP:20260424T165312
CREATED:20251209T193540Z
LAST-MODIFIED:20251209T193540Z
UID:7084-1765634400-1765648800@edil33.fr
SUMMARY:Tables libres
DESCRIPTION:Partie de wingspan à l’avant\, le reste libre
URL:https://edil33.fr/event/tables-libres-8/
LOCATION:EDIL\, 5 place sainte eulalie\, Bordeaux\, 33000\, France
CATEGORIES:PERMANENCE
END:VEVENT
BEGIN:VEVENT
DTSTART;TZID=Europe/Paris:20251221T140000
DTEND;TZID=Europe/Paris:20251221T183000
DTSTAMP:20260424T165312
CREATED:20251207T095832Z
LAST-MODIFIED:20251207T095832Z
UID:7078-1766325600-1766341800@edil33.fr
SUMMARY:Permanence Panda
DESCRIPTION:
URL:https://edil33.fr/event/permanence-panda-19/
LOCATION:EDIL\, 5 place sainte eulalie\, Bordeaux\, 33000\, France
CATEGORIES:jeux de figurines,PERMANENCE
END:VEVENT
END:VCALENDAR