BEGIN:VCALENDAR
VERSION:2.0
PRODID:-//Association de jeux EDIL - ECPv6.3.1//NONSGML v1.0//EN
CALSCALE:GREGORIAN
METHOD:PUBLISH
X-WR-CALNAME:Association de jeux EDIL
X-ORIGINAL-URL:https://edil33.fr
X-WR-CALDESC:évènements pour Association de jeux EDIL
REFRESH-INTERVAL;VALUE=DURATION:PT1H
X-Robots-Tag:noindex
X-PUBLISHED-TTL:PT1H
BEGIN:VTIMEZONE
TZID:Europe/Paris
BEGIN:DAYLIGHT
TZOFFSETFROM:+0100
TZOFFSETTO:+0200
TZNAME:CEST
DTSTART:20250330T010000
END:DAYLIGHT
BEGIN:STANDARD
TZOFFSETFROM:+0200
TZOFFSETTO:+0100
TZNAME:CET
DTSTART:20251026T010000
END:STANDARD
END:VTIMEZONE
BEGIN:VEVENT
DTSTART;TZID=Europe/Paris:20250518T140000
DTEND;TZID=Europe/Paris:20250518T200000
DTSTAMP:20260425T054839
CREATED:20250516T103447Z
LAST-MODIFIED:20250516T103447Z
UID:6630-1747576800-1747598400@edil33.fr
SUMMARY:Tournoi Avant-Premiere Rivalités Destinées
DESCRIPTION:Tournoi qui occupe toute l’asso de 14 à 17h \nIl devrait y avoir un peu de place qui se libère à 17h
URL:https://edil33.fr/event/tournoi-avant-premiere-rivalites-destinees/
LOCATION:EDIL\, 5 place sainte eulalie\, Bordeaux\, 33000\, France
CATEGORIES:PERMANENCE,Pokémon JCC
END:VEVENT
END:VCALENDAR