BEGIN:VCALENDAR
VERSION:2.0
PRODID:-//Association de jeux EDIL - ECPv6.3.1//NONSGML v1.0//EN
CALSCALE:GREGORIAN
METHOD:PUBLISH
X-ORIGINAL-URL:https://edil33.fr
X-WR-CALDESC:évènements pour Association de jeux EDIL
REFRESH-INTERVAL;VALUE=DURATION:PT1H
X-Robots-Tag:noindex
X-PUBLISHED-TTL:PT1H
BEGIN:VTIMEZONE
TZID:Europe/Paris
BEGIN:DAYLIGHT
TZOFFSETFROM:+0100
TZOFFSETTO:+0200
TZNAME:CEST
DTSTART:20250330T010000
END:DAYLIGHT
BEGIN:STANDARD
TZOFFSETFROM:+0200
TZOFFSETTO:+0100
TZNAME:CET
DTSTART:20251026T010000
END:STANDARD
END:VTIMEZONE
BEGIN:VEVENT
DTSTART;TZID=Europe/Paris:20251001T183000
DTEND;TZID=Europe/Paris:20251001T213000
DTSTAMP:20260424T200116
CREATED:20250703T201643Z
LAST-MODIFIED:20250920T141858Z
UID:6792-1759343400-1759354200@edil33.fr
SUMMARY:Séance de Ligue Pokémon
DESCRIPTION:Séance hebdomadaire de ligue Pokémon + tournoi « amène un ami »
URL:https://edil33.fr/event/seance-de-ligue-pokemon-31/
LOCATION:EDIL\, 5 place sainte eulalie\, Bordeaux\, 33000\, France
CATEGORIES:PERMANENCE,Pokémon JCC
END:VEVENT
BEGIN:VEVENT
DTSTART;TZID=Europe/Paris:20251008T183000
DTEND;TZID=Europe/Paris:20251008T213000
DTSTAMP:20260424T200116
CREATED:20251006T154318Z
LAST-MODIFIED:20251006T154318Z
UID:6984-1759948200-1759959000@edil33.fr
SUMMARY:Séance de ligue Pokémon
DESCRIPTION:Séance hebdomadaire de ligue Pokémon
URL:https://edil33.fr/event/seance-de-ligue-pokemon-38/
LOCATION:EDIL\, 5 place sainte eulalie\, Bordeaux\, 33000\, France
CATEGORIES:Pokémon JCC
END:VEVENT
BEGIN:VEVENT
DTSTART;TZID=Europe/Paris:20251015T183000
DTEND;TZID=Europe/Paris:20251015T213000
DTSTAMP:20260424T200116
CREATED:20250703T201825Z
LAST-MODIFIED:20250703T201825Z
UID:6794-1760553000-1760563800@edil33.fr
SUMMARY:Séance de Ligue Pokémon
DESCRIPTION:Séance hebdomadaire de ligue Pokémon.
URL:https://edil33.fr/event/seance-de-ligue-pokemon-32/
LOCATION:EDIL\, 5 place sainte eulalie\, Bordeaux\, 33000\, France
CATEGORIES:PERMANENCE,Pokémon JCC
END:VEVENT
BEGIN:VEVENT
DTSTART;TZID=Europe/Paris:20251015T183000
DTEND;TZID=Europe/Paris:20251015T213000
DTSTAMP:20260424T200116
CREATED:20251006T154426Z
LAST-MODIFIED:20251006T154426Z
UID:6986-1760553000-1760563800@edil33.fr
SUMMARY:Séance de ligue Pokémon
DESCRIPTION:Séance hebdomadaire de ligue Pokémon
URL:https://edil33.fr/event/seance-de-ligue-pokemon-41/
LOCATION:EDIL\, 5 place sainte eulalie\, Bordeaux\, 33000\, France
CATEGORIES:Pokémon JCC
END:VEVENT
BEGIN:VEVENT
DTSTART;TZID=Europe/Paris:20251022T183000
DTEND;TZID=Europe/Paris:20251022T213000
DTSTAMP:20260424T200116
CREATED:20250703T202050Z
LAST-MODIFIED:20250920T141945Z
UID:6796-1761157800-1761168600@edil33.fr
SUMMARY:Tournoi Pokémon
DESCRIPTION:Tournoi Pokémon\, salle avant occupée
URL:https://edil33.fr/event/seance-de-ligue-pokemon-33/
LOCATION:EDIL\, 5 place sainte eulalie\, Bordeaux\, 33000\, France
CATEGORIES:PERMANENCE,Pokémon JCC
END:VEVENT
BEGIN:VEVENT
DTSTART;TZID=Europe/Paris:20251029T183000
DTEND;TZID=Europe/Paris:20251029T213000
DTSTAMP:20260424T200116
CREATED:20250703T202225Z
LAST-MODIFIED:20251019T121756Z
UID:6798-1761762600-1761773400@edil33.fr
SUMMARY:Séance de Ligue Pokémon spéciale "Pokéween"
DESCRIPTION:Séance hebdomadaire de ligue Pokémon. On fête pokéween! Il y aura des animations autour du JCC de prévues\, salle avant prise intégralement
URL:https://edil33.fr/event/seance-de-ligue-pokemon-34/
LOCATION:EDIL\, 5 place sainte eulalie\, Bordeaux\, 33000\, France
CATEGORIES:PERMANENCE,Pokémon JCC
END:VEVENT
END:VCALENDAR