BEGIN:VCALENDAR
VERSION:2.0
PRODID:-//Association de jeux EDIL - ECPv6.3.1//NONSGML v1.0//EN
CALSCALE:GREGORIAN
METHOD:PUBLISH
X-WR-CALNAME:Association de jeux EDIL
X-ORIGINAL-URL:https://edil33.fr
X-WR-CALDESC:évènements pour Association de jeux EDIL
REFRESH-INTERVAL;VALUE=DURATION:PT1H
X-Robots-Tag:noindex
X-PUBLISHED-TTL:PT1H
BEGIN:VTIMEZONE
TZID:Europe/Paris
BEGIN:DAYLIGHT
TZOFFSETFROM:+0100
TZOFFSETTO:+0200
TZNAME:CEST
DTSTART:20250330T010000
END:DAYLIGHT
BEGIN:STANDARD
TZOFFSETFROM:+0200
TZOFFSETTO:+0100
TZNAME:CET
DTSTART:20251026T010000
END:STANDARD
END:VTIMEZONE
BEGIN:VEVENT
DTSTART;TZID=Europe/Paris:20251203T183000
DTEND;TZID=Europe/Paris:20251203T213000
DTSTAMP:20260424T182521
CREATED:20251202T200120Z
LAST-MODIFIED:20251202T200144Z
UID:7065-1764786600-1764797400@edil33.fr
SUMMARY:Séance de ligue Pokémon
DESCRIPTION:Séance hebdomadaire de ligue Pokémon
URL:https://edil33.fr/event/seance-de-ligue-pokemon-43/
CATEGORIES:Pokémon JCC
END:VEVENT
END:VCALENDAR